View In:
ArcGIS JavaScript
ArcGIS Online Map Viewer
ArcGIS Earth
Service Description: Orange County Historical Imagery Aerial Index, v2
Name: Historic_Imagery/Historic_Imagery_v2
Description: Orange County Historical Imagery Aerial Index, v2
Single Fused Map Cache: false
Extent:
XMin: 5943054.604253963
YMin: 2053774.6803567847
XMax: 6234815.264293699
YMax: 2332762.4558487236
Spatial Reference: 102646
(2230)
LatestVCSWkid(0)
Initial Extent:
XMin: 5943054.604253963
YMin: 2053774.6803567847
XMax: 6234815.264293699
YMax: 2332762.4558487236
Spatial Reference: 102646
(2230)
LatestVCSWkid(0)
Full Extent:
XMin: 5943054.604253963
YMin: 2053774.6803567847
XMax: 6234815.264293699
YMax: 2332762.4558487236
Spatial Reference: 102646
(2230)
LatestVCSWkid(0)
Pixel Size X: 0.05362859999998823
Pixel Size Y: 0.05362859999998826
Band Count: 4
Pixel Type: U8
RasterFunction Infos: {"rasterFunctionInfos": [{
"name": "None",
"description": "A No-Op Function.",
"help": ""
}]}
Mensuration Capabilities: Basic
Inspection Capabilities:
Has Histograms: true
Has Colormap: false
Has Multi Dimensions : false
Rendering Rule:
Min Scale: 0
Max Scale: 0
Copyright Text: OC Survey
Service Data Type: esriImageServiceDataTypeGeneric
Min Values: 0, 0, 0, 0
Max Values: 65407.001953125, 65407.001953125, 65407.001953125, 255
Mean Values: 601.6569550696584, 320.1122671625349, 320.1122671820801, 109.11688721607406
Standard Deviation Values: 3963.1257487355356, 2467.950279994277, 2467.950279992586, 126.16778975547737
Object ID Field: OBJECTID
Fields:
-
OBJECTID
(
type: esriFieldTypeOID, alias: OBJECTID
)
-
Shape
(
type: esriFieldTypeGeometry, alias: Shape
)
-
Name
(
type: esriFieldTypeString, alias: Name, length: 200
)
-
MinPS
(
type: esriFieldTypeDouble, alias: MinPS
)
-
MaxPS
(
type: esriFieldTypeDouble, alias: MaxPS
)
-
LowPS
(
type: esriFieldTypeDouble, alias: LowPS
)
-
HighPS
(
type: esriFieldTypeDouble, alias: HighPS
)
-
Category
(
type: esriFieldTypeInteger, alias: Category
, Coded Values:
[0: Unknown]
, [1: Primary]
, [2: Overview]
, ...6 more...
)
-
Tag
(
type: esriFieldTypeString, alias: Tag, length: 100
)
-
GroupName
(
type: esriFieldTypeString, alias: GroupName, length: 100
)
-
ProductName
(
type: esriFieldTypeString, alias: ProductName, length: 100
)
-
CenterX
(
type: esriFieldTypeDouble, alias: CenterX
)
-
CenterY
(
type: esriFieldTypeDouble, alias: CenterY
)
-
ZOrder
(
type: esriFieldTypeInteger, alias: ZOrder
)
-
Scan_File_Name
(
type: esriFieldTypeString, alias: Map ID, length: 255
)
-
Map_Name
(
type: esriFieldTypeString, alias: Map_Name, length: 100
)
-
DateCurrent
(
type: esriFieldTypeInteger, alias: Date Current
)
-
Date_On_Map
(
type: esriFieldTypeSmallInteger, alias: Date on Map
)
-
Map_Scale
(
type: esriFieldTypeInteger, alias: Imagery Type
)
-
Shape_Length
(
type: esriFieldTypeDouble, alias: Shape_Length
)
-
Shape_Area
(
type: esriFieldTypeDouble, alias: Shape_Area
)
Default Mosaic Method: Northwest
Allowed Mosaic Methods: NorthWest,Center,LockRaster,ByAttribute,Nadir,Viewpoint,Seamline,None
SortField:
SortValue: null
Mosaic Operator: First
Default Compression Quality: 75
Default Resampling Method: Bilinear
Max Record Count: 2000
Max Image Height: 30000
Max Image Width: 30000
Max Download Image Count: 40
Max Mosaic Image Count: 500
Allow Raster Function: true
Allow Copy: true
Allow Analysis: true
Allow Compute TiePoints: false
Supports Statistics: true
Supports Advanced Queries: true
Use StandardizedQueries: true
Raster Type Infos:
Name: Raster Dataset
Description: Supports all ArcGIS Raster Datasets
Help:
Has Raster Attribute Table: false
Edit Fields Info: null
Ownership Based AccessControl For Rasters: null
Child Resources:
Info
Histograms
Statistics
Key Properties
Legend
Raster Function Infos
Supported Operations:
Export Image
Query
Identify
Measure
Compute Histograms
Compute Statistics Histograms
Get Samples
Compute Class Statistics
Query GPS Info
Find Images
Image to Map
Map to Image
Measure from Image
Image to Map Multiray
Query Boundary
Compute Pixel Location
Compute Angles
Validate
Project