{
 "currentVersion": 11.5,
 "serviceDescription": "Orange County Historical Imagery Aerial Index, v2",
 "name": "Historic_Imagery/Historic_Imagery_v2",
 "description": "Orange County Historical Imagery Aerial Index, v2",
 "extent": {
  "xmin": 5943054.604253963,
  "ymin": 2053774.6803567847,
  "xmax": 6234815.264293699,
  "ymax": 2332762.4558487236,
  "spatialReference": {
   "wkid": 102646,
   "latestWkid": 2230
  }
 },
 "initialExtent": {
  "xmin": 5943054.604253963,
  "ymin": 2053774.6803567847,
  "xmax": 6234815.264293699,
  "ymax": 2332762.4558487236,
  "spatialReference": {
   "wkid": 102646,
   "latestWkid": 2230
  }
 },
 "fullExtent": {
  "xmin": 5943054.604253963,
  "ymin": 2053774.6803567847,
  "xmax": 6234815.264293699,
  "ymax": 2332762.4558487236,
  "spatialReference": {
   "wkid": 102646,
   "latestWkid": 2230
  }
 },
 "sortableFields": "",
 "bandCount": 4,
 "pixelType": "U8",
 "minValues": [
  0,
  0,
  0,
  0
 ],
 "maxValues": [
  65407.001953125,
  65407.001953125,
  65407.001953125,
  255
 ],
 "meanValues": [
  601.6569550696584,
  320.1122671625349,
  320.1122671820801,
  109.11688721607406
 ],
 "stdvValues": [
  3963.1257487355356,
  2467.950279994277,
  2467.950279992586,
  126.16778975547737
 ],
 "serviceProperties": "NorthWest<\/MosaicMethod>First<\/MosaicOperator>true<\/SortAscending><\/LockImageID>Name<\/TileOrderField>0<\/TileOrderBase>600.000000<\/AvgImageSpacingX>300.000000<\/AvgImageSpacingY>0.0<\/ViewPointX>0.0<\/ViewPointY>0.0<\/ViewPointDefShiftX>0.0<\/ViewPointDefShiftY>None<\/CompressionMethod>75<\/CompressionQuality>0.010000<\/CompressionTolerance>Bilinear<\/SamplingMethod><\/ImageServiceProperties><\/ImageServer>",
 "allowedFields": "Name,MinPS,MaxPS,LowPS,HighPS,Tag,GroupName,ProductName,CenterX,CenterY,ZOrder,Shape_Length,Shape_Area,Thumbnail,Scan_File_Name,Map_Name,DateCurrent,Date_On_Map,Map_Scale",
 "hasMultidimensions": false,
 "pixelSizeX": 0.05362859999998823,
 "pixelSizeY": 0.05362859999998826,
 "meanPixelSize": 0.016346029972056364,
 "datasetFormat": "AMD",
 "uncompressedSize": 113208485089840,
 "blockWidth": 2048,
 "blockHeight": 256,
 "compressionType": "None",
 "bandNames": [
  "Band_1",
  "Band_2",
  "Band_3",
  "Band_4"
 ],
 "allowCopy": true,
 "allowAnalysis": true,
 "itemAccess": false,
 "inspectionCapabilities": "",
 "noDataValue": 1.79E308,
 "noDataValues": [
  1.79E308,
  1.79E308,
  0,
  1.79E308
 ],
 "minPixelSize": 0,
 "maxPixelSize": 0,
 "copyrightText": "OC Survey",
 "serviceDataType": "esriImageServiceDataTypeGeneric",
 "serviceSourceType": "esriImageServiceSourceTypeMosaicDataset",
 "objectIdField": "OBJECTID",
 "fields": [
  {
   "name": "OBJECTID",
   "type": "esriFieldTypeOID",
   "alias": "OBJECTID",
   "domain": null
  },
  {
   "name": "Shape",
   "type": "esriFieldTypeGeometry",
   "alias": "Shape",
   "domain": null
  },
  {
   "name": "Name",
   "type": "esriFieldTypeString",
   "alias": "Name",
   "domain": null,
   "length": 200
  },
  {
   "name": "MinPS",
   "type": "esriFieldTypeDouble",
   "alias": "MinPS",
   "domain": null
  },
  {
   "name": "MaxPS",
   "type": "esriFieldTypeDouble",
   "alias": "MaxPS",
   "domain": null
  },
  {
   "name": "LowPS",
   "type": "esriFieldTypeDouble",
   "alias": "LowPS",
   "domain": null
  },
  {
   "name": "HighPS",
   "type": "esriFieldTypeDouble",
   "alias": "HighPS",
   "domain": null
  },
  {
   "name": "Category",
   "type": "esriFieldTypeInteger",
   "alias": "Category",
   "domain": {
    "type": "codedValue",
    "name": "MosaicCatalogItemCategoryDomain",
    "description": "Catalog item categories.",
    "codedValues": [
     {
      "name": "Unknown",
      "code": 0
     },
     {
      "name": "Primary",
      "code": 1
     },
     {
      "name": "Overview",
      "code": 2
     },
     {
      "name": "Unprocessed Overview",
      "code": 3
     },
     {
      "name": "Partial Overview",
      "code": 4
     },
     {
      "name": "Inactive",
      "code": 5
     },
     {
      "name": "Uploaded",
      "code": 253
     },
     {
      "name": "Incomplete",
      "code": 254
     },
     {
      "name": "Custom",
      "code": 255
     }
    ],
    "mergePolicy": "esriMPTDefaultValue",
    "splitPolicy": "esriSPTDefaultValue"
   }
  },
  {
   "name": "Tag",
   "type": "esriFieldTypeString",
   "alias": "Tag",
   "domain": null,
   "length": 100
  },
  {
   "name": "GroupName",
   "type": "esriFieldTypeString",
   "alias": "GroupName",
   "domain": null,
   "length": 100
  },
  {
   "name": "ProductName",
   "type": "esriFieldTypeString",
   "alias": "ProductName",
   "domain": null,
   "length": 100
  },
  {
   "name": "CenterX",
   "type": "esriFieldTypeDouble",
   "alias": "CenterX",
   "domain": null
  },
  {
   "name": "CenterY",
   "type": "esriFieldTypeDouble",
   "alias": "CenterY",
   "domain": null
  },
  {
   "name": "ZOrder",
   "type": "esriFieldTypeInteger",
   "alias": "ZOrder",
   "domain": null
  },
  {
   "name": "Scan_File_Name",
   "type": "esriFieldTypeString",
   "alias": "Map ID",
   "domain": null,
   "length": 255
  },
  {
   "name": "Map_Name",
   "type": "esriFieldTypeString",
   "alias": "Map_Name",
   "domain": null,
   "length": 100
  },
  {
   "name": "DateCurrent",
   "type": "esriFieldTypeInteger",
   "alias": "Date Current",
   "domain": null
  },
  {
   "name": "Date_On_Map",
   "type": "esriFieldTypeSmallInteger",
   "alias": "Date on Map",
   "domain": null
  },
  {
   "name": "Map_Scale",
   "type": "esriFieldTypeInteger",
   "alias": "Imagery Type",
   "domain": null
  },
  {
   "name": "Shape_Length",
   "type": "esriFieldTypeDouble",
   "alias": "Shape_Length",
   "domain": null
  },
  {
   "name": "Shape_Area",
   "type": "esriFieldTypeDouble",
   "alias": "Shape_Area",
   "domain": null
  }
 ],
 "capabilities": "Image,Metadata,Catalog,Mensuration",
 "defaultMosaicMethod": "Northwest",
 "allowedMosaicMethods": "NorthWest,Center,LockRaster,ByAttribute,Nadir,Viewpoint,Seamline,None",
 "sortField": "",
 "sortValue": null,
 "sortAscending": true,
 "mosaicOperator": "First",
 "maxDownloadSizeLimit": 4096,
 "defaultCompressionQuality": 75,
 "defaultResamplingMethod": "Bilinear",
 "maxImageHeight": 30000,
 "maxImageWidth": 30000,
 "maxRecordCount": 2000,
 "maxDownloadImageCount": 40,
 "maxMosaicImageCount": 500,
 "allowRasterFunction": true,
 "rasterFunctionInfos": [
  {
   "name": "None",
   "description": "A No-Op Function.",
   "help": ""
  }
 ],
 "rasterTypeInfos": [
  {
   "name": "Raster Dataset",
   "description": "Supports all ArcGIS Raster Datasets",
   "help": ""
  }
 ],
 "mensurationCapabilities": "Basic",
 "hasHistograms": true,
 "hasColormap": false,
 "hasRasterAttributeTable": false,
 "minScale": 0,
 "maxScale": 0,
 "exportTilesAllowed": false,
 "supportsStatistics": true,
 "supportsAdvancedQueries": true,
 "editFieldsInfo": null,
 "ownershipBasedAccessControlForRasters": null,
 "allowComputeTiePoints": false,
 "useStandardizedQueries": true,
 "advancedQueryCapabilities": {
  "useStandardizedQueries": true,
  "supportsStatistics": true,
  "supportsOrderBy": true,
  "supportsDistinct": true,
  "supportsPagination": true
 },
 "spatialReference": {
  "wkid": 102646,
  "latestWkid": 2230
 }
}
