View In:
ArcGIS JavaScript
ArcGIS Online Map Viewer
ArcGIS Earth
Service Description: Georeferenced Parcel Maps (White set to No Data)
Name: OM_TEST/ParcelMaps_Joe
Description: Georeferenced Parcel Maps (White set to No Data)
Single Fused Map Cache: false
Extent:
XMin: -0.06543911062180996
YMin: -1.2481484847818691E7
XMax: 9541045.05103651
YMax: 2961434.494247985
Spatial Reference: 102646
(2230)
LatestVCSWkid(0)
Initial Extent:
XMin: -0.06543911062180996
YMin: -1.2481484847818691E7
XMax: 9541045.05103651
YMax: 2961434.494247985
Spatial Reference: 102646
(2230)
LatestVCSWkid(0)
Full Extent:
XMin: -0.06543911062180996
YMin: -1.2481484847818691E7
XMax: 9541045.05103651
YMax: 2961434.494247985
Spatial Reference: 102646
(2230)
LatestVCSWkid(0)
Pixel Size X: 0.11863877190831722
Pixel Size Y: 0.1186387719083422
Band Count: 1
Pixel Type: U1
RasterFunction Infos: {"rasterFunctionInfos": [
{
"name": "Binary_No_Data",
"description": "A raster function template.",
"help": ""
},
{
"name": "None",
"description": "A No-Op Function.",
"help": ""
}
]}
Mensuration Capabilities: Basic
Inspection Capabilities:
Has Histograms: false
Has Colormap: false
Has Multi Dimensions : false
Rendering Rule:
Min Scale: 0
Max Scale: 0
Copyright Text: OC Survey
Service Data Type: esriImageServiceDataTypeGeneric
Min Values: N/A
Max Values: N/A
Mean Values: N/A
Standard Deviation Values: N/A
Object ID Field: OBJECTID
Fields:
-
OBJECTID
(
type: esriFieldTypeOID, alias: OBJECTID
)
-
Name
(
type: esriFieldTypeString, alias: Name, length: 200
)
-
MinPS
(
type: esriFieldTypeDouble, alias: MinPS
)
-
MaxPS
(
type: esriFieldTypeDouble, alias: MaxPS
)
-
LowPS
(
type: esriFieldTypeDouble, alias: LowPS
)
-
HighPS
(
type: esriFieldTypeDouble, alias: HighPS
)
-
Category
(
type: esriFieldTypeInteger, alias: Category
, Coded Values:
[0: Unknown]
, [1: Primary]
, [2: Overview]
, ...5 more...
)
-
Tag
(
type: esriFieldTypeString, alias: Tag, length: 100
)
-
GroupName
(
type: esriFieldTypeString, alias: GroupName, length: 100
)
-
ProductName
(
type: esriFieldTypeString, alias: ProductName, length: 100
)
-
CenterX
(
type: esriFieldTypeDouble, alias: CenterX
)
-
CenterY
(
type: esriFieldTypeDouble, alias: CenterY
)
-
ZOrder
(
type: esriFieldTypeInteger, alias: ZOrder
)
-
Shape
(
type: esriFieldTypeGeometry, alias: Shape
)
-
ModifiedDate
(
type: esriFieldTypeDate, alias: ModifiedDate, length: 8
)
-
BPNum
(
type: esriFieldTypeString, alias: BPNum, length: 13
)
-
Shape.STArea()
(
type: esriFieldTypeDouble, alias: Shape.STArea()
)
-
Shape.STLength()
(
type: esriFieldTypeDouble, alias: Shape.STLength()
)
Default Mosaic Method: Northwest
Allowed Mosaic Methods: NorthWest,Center,LockRaster,ByAttribute,Nadir,Viewpoint,Seamline,None
SortField:
SortValue: null
Mosaic Operator: First
Default Compression Quality: 75
Default Resampling Method: Bilinear
Max Record Count: 1000
Max Image Height: 4100
Max Image Width: 15000
Max Download Image Count: 20
Max Mosaic Image Count: 20
Allow Raster Function: true
Allow Copy: true
Allow Analysis: true
Allow Compute TiePoints: false
Supports Statistics: true
Supports Advanced Queries: true
Use StandardizedQueries: true
Raster Type Infos:
Name: Raster Dataset
Description: Supports all ArcGIS Raster Datasets
Help:
Has Raster Attribute Table: false
Edit Fields Info: null
Ownership Based AccessControl For Rasters: null
Child Resources:
Info
Statistics
Key Properties
Legend
Raster Function Infos
Supported Operations:
Export Image
Query
Identify
Measure
Compute Histograms
Compute Statistics Histograms
Get Samples
Compute Class Statistics
Query GPS Info
Find Images
Image to Map
Map to Image
Measure from Image
Image to Map Multiray
Query Boundary
Compute Pixel Location
Compute Angles
Validate
Project