View In:
ArcGIS JavaScript
ArcGIS Online Map Viewer
ArcGIS Earth
Service Description: OCS_Projects/Illicit_Discharge_2016_DEM
Name: OCS_Projects/Illicit_Discharge_2016_DEM
Description:
Single Fused Map Cache: false
Extent:
XMin: 6093236.999999996
YMin: 2090798.999999993
XMax: 6165245.999999996
YMax: 2195060.999999993
Spatial Reference: 102646
(2230)
LatestVCSWkid(0)
Initial Extent:
XMin: 6093236.999999996
YMin: 2090798.999999993
XMax: 6165245.999999996
YMax: 2195060.999999993
Spatial Reference: 102646
(2230)
LatestVCSWkid(0)
Full Extent:
XMin: 6093236.999999996
YMin: 2090798.999999993
XMax: 6165245.999999996
YMax: 2195060.999999993
Spatial Reference: 102646
(2230)
LatestVCSWkid(0)
Pixel Size X: 1.5
Pixel Size Y: 1.5
Band Count: 1
Pixel Type: F32
RasterFunction Infos: {"rasterFunctionInfos": [
{
"name": "None",
"description": "Make a Raster or Raster Dataset into a Function Raster Dataset.",
"help": ""
},
{
"name": "Slope",
"description": "A raster function template.",
"help": ""
},
{
"name": "Hillshade",
"description": "A raster function template.",
"help": ""
},
{
"name": "Shaded_Relief",
"description": "Slope raster function (white to black)",
"help": ""
},
{
"name": "HillshadeRaster Function Template",
"description": "A raster function template.",
"help": ""
}
]}
Mensuration Capabilities: Basic
Inspection Capabilities:
Has Histograms: true
Has Colormap: false
Has Multi Dimensions : false
Rendering Rule:
Min Scale: 0
Max Scale: 0
Resampling: false
Copyright Text: DMI
Service Data Type: esriImageServiceDataTypeGeneric
Min Values: 0.23999999463558
Max Values: 1555.7900390625
Mean Values: 434.74736685426
Standard Deviation Values: 278.62656952771
Object ID Field:
Fields:
None
Default Mosaic Method: Center
Allowed Mosaic Methods:
SortField:
SortValue: null
Mosaic Operator: First
Default Compression Quality: 75
Default Resampling Method: Bilinear
Max Record Count: null
Max Image Height: 4100
Max Image Width: 15000
Max Download Image Count: null
Max Mosaic Image Count: null
Allow Raster Function: true
Allow Copy: true
Allow Analysis: true
Allow Compute TiePoints: false
Supports Statistics: false
Supports Advanced Queries: false
Use StandardizedQueries: true
Raster Type Infos:
Name: Raster Dataset
Description: Supports all ArcGIS Raster Datasets
Help:
Has Raster Attribute Table: false
Edit Fields Info: null
Ownership Based AccessControl For Rasters: null
Child Resources:
Info
Histograms
Statistics
Key Properties
Legend
Raster Function Infos
Supported Operations:
Export Image
Identify
Measure
Compute Histograms
Compute Statistics Histograms
Get Samples
Compute Class Statistics
Query Boundary
Compute Pixel Location
Compute Angles
Validate
Project