View In:
ArcGIS JavaScript
ArcGIS Online Map Viewer
ArcGIS Earth
Service Description: JWA/JWA_JWAUSER_PresentFAA
Name: JWA/JWA_JWAUSER_PresentFAA
Description:
Single Fused Map Cache: false
Extent:
XMin: -1.3126849239678998E7
YMin: 3979036.0075209513
XMax: -1.3107822446220845E7
YMax: 4004733.5492830025
Spatial Reference: 102100
(3857)
VCSWkid(115700)
LatestVCSWkid(115700)
Initial Extent:
XMin: -1.3126849239678998E7
YMin: 3979036.0075209513
XMax: -1.3107822446220845E7
YMax: 4004733.5492830025
Spatial Reference: 102100
(3857)
VCSWkid(115700)
LatestVCSWkid(115700)
Full Extent:
XMin: -1.3126849239678998E7
YMin: 3979036.0075209513
XMax: -1.3107822446220845E7
YMax: 4004733.5492830025
Spatial Reference: 102100
(3857)
VCSWkid(115700)
LatestVCSWkid(115700)
Pixel Size X: 75.80395800060782
Pixel Size Y: 75.80395800015096
Band Count: 1
Pixel Type: F32
RasterFunction Infos: {"rasterFunctionInfos": [{
"name": "None",
"description": "",
"help": ""
}]}
Mensuration Capabilities: Basic
Inspection Capabilities:
Has Histograms: true
Has Colormap: false
Has Multi Dimensions : false
Rendering Rule:
Min Scale: 0
Max Scale: 0
Resampling: false
Copyright Text:
Service Data Type: esriImageServiceDataTypeGeneric
Min Values: 12.383459091186523
Max Values: 591.5250854492188
Mean Values: 187.6036532384676
Standard Deviation Values: 134.9907297470194
Object ID Field:
Fields:
None
Default Mosaic Method: Center
Allowed Mosaic Methods:
SortField:
SortValue: null
Mosaic Operator: First
Default Compression Quality: 75
Default Resampling Method: Bilinear
Max Record Count: null
Max Image Height: 4100
Max Image Width: 15000
Max Download Image Count: null
Max Mosaic Image Count: null
Allow Raster Function: true
Allow Copy: true
Allow Analysis: true
Allow Compute TiePoints: false
Supports Statistics: false
Supports Advanced Queries: false
Use StandardizedQueries: true
Raster Type Infos:
Name: Raster Dataset
Description: Supports all ArcGIS Raster Datasets
Help:
Has Raster Attribute Table: false
Edit Fields Info: null
Ownership Based AccessControl For Rasters: null
Child Resources:
Info
Histograms
Statistics
Key Properties
Legend
Raster Function Infos
Supported Operations:
Export Image
Identify
Measure
Compute Histograms
Compute Statistics Histograms
Get Samples
Compute Class Statistics
Query Boundary
Compute Pixel Location
Compute Angles
Validate
Project