View In:
ArcGIS JavaScript
ArcGIS Online Map Viewer
ArcGIS Earth
Service Description: Environmental_Resources/slope_class
Name: Environmental_Resources/slope_class
Description:
Single Fused Map Cache: false
Extent:
XMin: 5989438.815869109
YMin: 2083655.4238545299
XMax: 6210121.237629109
YMax: 2295633.77709453
Spatial Reference: 102646
(2230)
LatestVCSWkid(0)
Initial Extent:
XMin: 5989438.815869109
YMin: 2083655.4238545299
XMax: 6210121.237629109
YMax: 2295633.77709453
Spatial Reference: 102646
(2230)
LatestVCSWkid(0)
Full Extent:
XMin: 5989438.815869109
YMin: 2083655.4238545299
XMax: 6210121.237629109
YMax: 2295633.77709453
Spatial Reference: 102646
(2230)
LatestVCSWkid(0)
Pixel Size X: 3.2808400000000044
Pixel Size Y: 3.2808400000000013
Band Count: 1
Pixel Type: S8
RasterFunction Infos: {"rasterFunctionInfos": [{
"name": "None",
"description": "",
"help": ""
}]}
Mensuration Capabilities: Basic
Inspection Capabilities:
Has Histograms: true
Has Colormap: false
Has Multi Dimensions : false
Rendering Rule:
Min Scale: 0
Max Scale: 0
Resampling: false
Copyright Text:
Service Data Type: esriImageServiceDataTypeGeneric
Min Values: 0
Max Values: 90
Mean Values: 26.170913858146594
Standard Deviation Values: 32.93830965385018
Object ID Field:
Fields:
None
Default Mosaic Method: Center
Allowed Mosaic Methods:
SortField:
SortValue: null
Mosaic Operator: First
Default Compression Quality: 75
Default Resampling Method: Bilinear
Max Record Count: null
Max Image Height: 4100
Max Image Width: 15000
Max Download Image Count: null
Max Mosaic Image Count: null
Allow Raster Function: true
Allow Copy: true
Allow Analysis: true
Allow Compute TiePoints: false
Supports Statistics: false
Supports Advanced Queries: false
Use StandardizedQueries: true
Raster Type Infos:
Name: Raster Dataset
Description: Supports all ArcGIS Raster Datasets
Help:
Has Raster Attribute Table: true
Edit Fields Info: null
Ownership Based AccessControl For Rasters: null
Child Resources:
Info
Raster Attribute Table
Histograms
Statistics
Key Properties
Legend
Raster Function Infos
Supported Operations:
Export Image
Identify
Measure
Compute Histograms
Compute Statistics Histograms
Get Samples
Compute Class Statistics
Query Boundary
Compute Pixel Location
Compute Angles
Validate
Project