View In:
ArcGIS JavaScript
ArcGIS Online Map Viewer
ArcGIS Earth
Service Description: Environmental_Resources/OC_Imperviousness
Name: Environmental_Resources/OC_Imperviousness
Description:
Single Fused Map Cache: false
Extent:
XMin: -2066493.5662994932
YMin: 1327257.741567465
XMax: -1907455.9285825973
YMax: 1485547.8711324916
Spatial Reference: 0
(0)
LatestVCSWkid(0)
Initial Extent:
XMin: -2066493.5662994932
YMin: 1327257.741567465
XMax: -1907455.9285825973
YMax: 1485547.8711324916
Spatial Reference: 0
(0)
LatestVCSWkid(0)
Full Extent:
XMin: -2066493.5662994932
YMin: 1327257.741567465
XMax: -1907455.9285825973
YMax: 1485547.8711324916
Spatial Reference: 0
(0)
LatestVCSWkid(0)
Pixel Size X: 3.000030893324076
Pixel Size Y: 3.000078267787927
Band Count: 1
Pixel Type: S8
RasterFunction Infos: {"rasterFunctionInfos": [{
"name": "None",
"description": "",
"help": ""
}]}
Mensuration Capabilities: Basic
Inspection Capabilities:
Has Histograms: true
Has Colormap: true
Has Multi Dimensions : false
Rendering Rule:
Min Scale: 0
Max Scale: 0
Resampling: false
Copyright Text:
Service Data Type: esriImageServiceDataTypeThematic
Min Values: 0
Max Values: 100
Mean Values: 37.01671131460126
Standard Deviation Values: 41.32676146822661
Object ID Field:
Fields:
None
Default Mosaic Method: Center
Allowed Mosaic Methods:
SortField:
SortValue: null
Mosaic Operator: First
Default Compression Quality: 75
Default Resampling Method: Bilinear
Max Record Count: null
Max Image Height: 4100
Max Image Width: 15000
Max Download Image Count: null
Max Mosaic Image Count: null
Allow Raster Function: true
Allow Copy: true
Allow Analysis: true
Allow Compute TiePoints: false
Supports Statistics: false
Supports Advanced Queries: false
Use StandardizedQueries: true
Raster Type Infos:
Name: Raster Dataset
Description: Supports all ArcGIS Raster Datasets
Help:
Has Raster Attribute Table: true
Edit Fields Info: null
Ownership Based AccessControl For Rasters: null
Child Resources:
Info
Raster Attribute Table
Histograms
Statistics
Key Properties
Color Map
Legend
Raster Function Infos
Supported Operations:
Export Image
Identify
Measure
Compute Histograms
Compute Statistics Histograms
Get Samples
Compute Class Statistics
Query Boundary
Compute Pixel Location
Compute Angles
Validate
Project