View In:
ArcGIS JavaScript
ArcGIS Online Map Viewer
ArcGIS Earth
Service Description: Environmental_Resources/NLCD2016_Imperviousness
Name: Environmental_Resources/NLCD2016_Imperviousness
Description:
Single Fused Map Cache: false
Extent:
XMin: 5993238.011565186
YMin: 2087067.92592693
XMax: 6235396.811965186
YMax: 2292504.28420693
Spatial Reference: 102646
(2230)
LatestVCSWkid(0)
Initial Extent:
XMin: 5993238.011565186
YMin: 2087067.92592693
XMax: 6235396.811965186
YMax: 2292504.28420693
Spatial Reference: 102646
(2230)
LatestVCSWkid(0)
Full Extent:
XMin: 5993238.011565186
YMin: 2087067.92592693
XMax: 6235396.811965186
YMax: 2292504.28420693
Spatial Reference: 102646
(2230)
LatestVCSWkid(0)
Pixel Size X: 3.280840000000001
Pixel Size Y: 3.280840000000001
Band Count: 1
Pixel Type: S8
RasterFunction Infos: {"rasterFunctionInfos": [{
"name": "None",
"description": "",
"help": ""
}]}
Mensuration Capabilities: Basic
Inspection Capabilities:
Has Histograms: true
Has Colormap: false
Has Multi Dimensions : false
Rendering Rule:
Min Scale: 0
Max Scale: 0
Resampling: false
Copyright Text:
Service Data Type: esriImageServiceDataTypeGeneric
Min Values: 0
Max Values: 100
Mean Values: 30.012445076726312
Standard Deviation Values: 32.01189623180379
Object ID Field:
Fields:
None
Default Mosaic Method: Center
Allowed Mosaic Methods:
SortField:
SortValue: null
Mosaic Operator: First
Default Compression Quality: 75
Default Resampling Method: Bilinear
Max Record Count: null
Max Image Height: 4100
Max Image Width: 15000
Max Download Image Count: null
Max Mosaic Image Count: null
Allow Raster Function: true
Allow Copy: true
Allow Analysis: true
Allow Compute TiePoints: false
Supports Statistics: false
Supports Advanced Queries: false
Use StandardizedQueries: true
Raster Type Infos:
Name: Raster Dataset
Description: Supports all ArcGIS Raster Datasets
Help:
Has Raster Attribute Table: false
Edit Fields Info: null
Ownership Based AccessControl For Rasters: null
Child Resources:
Info
Histograms
Statistics
Key Properties
Legend
Raster Function Infos
Supported Operations:
Export Image
Identify
Measure
Compute Histograms
Compute Statistics Histograms
Get Samples
Compute Class Statistics
Query Boundary
Compute Pixel Location
Compute Angles
Validate
Project