View In:
ArcGIS JavaScript
ArcGIS Online Map Viewer
ArcGIS Earth
Service Description: Environmental_Resources/NLCD2001_Imperviousness
Name: Environmental_Resources/NLCD2001_Imperviousness
Description:
Single Fused Map Cache: false
Extent:
XMin: 5993238.38076
YMin: 2087066.9959200006
XMax: 6207834.844319999
YMax: 2292503.3542
Spatial Reference: 102646
(2230)
LatestVCSWkid(0)
Initial Extent:
XMin: 5993238.38076
YMin: 2087066.9959200006
XMax: 6207834.844319999
YMax: 2292503.3542
Spatial Reference: 102646
(2230)
LatestVCSWkid(0)
Full Extent:
XMin: 5993238.38076
YMin: 2087066.9959200006
XMax: 6207834.844319999
YMax: 2292503.3542
Spatial Reference: 102646
(2230)
LatestVCSWkid(0)
Pixel Size X: 3.2808399999999867
Pixel Size Y: 3.2808399999999898
Band Count: 1
Pixel Type: U16
RasterFunction Infos: {"rasterFunctionInfos": [{
"name": "None",
"description": "",
"help": ""
}]}
Mensuration Capabilities: Basic
Inspection Capabilities:
Has Histograms: true
Has Colormap: true
Has Multi Dimensions : false
Rendering Rule:
Min Scale: 0
Max Scale: 0
Resampling: false
Copyright Text:
Service Data Type: esriImageServiceDataTypeThematic
Min Values: 0
Max Values: 100
Mean Values: 29.127398699232
Standard Deviation Values: 31.724379662124
Object ID Field:
Fields:
None
Default Mosaic Method: Center
Allowed Mosaic Methods:
SortField:
SortValue: null
Mosaic Operator: First
Default Compression Quality: 75
Default Resampling Method: Bilinear
Max Record Count: null
Max Image Height: 4100
Max Image Width: 15000
Max Download Image Count: null
Max Mosaic Image Count: null
Allow Raster Function: true
Allow Copy: true
Allow Analysis: true
Allow Compute TiePoints: false
Supports Statistics: false
Supports Advanced Queries: false
Use StandardizedQueries: true
Raster Type Infos:
Name: Raster Dataset
Description: Supports all ArcGIS Raster Datasets
Help:
Has Raster Attribute Table: false
Edit Fields Info: null
Ownership Based AccessControl For Rasters: null
Child Resources:
Info
Histograms
Statistics
Key Properties
Color Map
Legend
Raster Function Infos
Supported Operations:
Export Image
Identify
Measure
Compute Histograms
Compute Statistics Histograms
Get Samples
Compute Class Statistics
Query Boundary
Compute Pixel Location
Compute Angles
Validate
Project