View In:
ArcGIS JavaScript
ArcGIS Online Map Viewer
ArcGIS Earth
Service Description: Orange County DEM, 1 Meter Resolution (2020 Version)
Name: Elevation/oc_dem_1m_2020
Description: Orange County DEM, 1 Meter Resolution (2020 Version)
Single Fused Map Cache: false
Extent:
XMin: 5971623.854669109
YMin: 2072195.4497345372
XMax: 6236079.243709109
YMax: 2336644.277094537
Spatial Reference: 0
(0)
LatestVCSWkid(0)
Initial Extent:
XMin: 5971623.854669109
YMin: 2072195.4497345372
XMax: 6236079.243709109
YMax: 2336644.277094537
Spatial Reference: 0
(0)
LatestVCSWkid(0)
Full Extent:
XMin: 5971623.854669109
YMin: 2072195.4497345372
XMax: 6236079.243709109
YMax: 2336644.277094537
Spatial Reference: 0
(0)
LatestVCSWkid(0)
Pixel Size X: 3.2808399999999978
Pixel Size Y: 3.280839999999997
Band Count: 1
Pixel Type: F32
RasterFunction Infos: {"rasterFunctionInfos": [
{
"name": "None",
"description": "Make a Raster or Raster Dataset into a Function Raster Dataset.",
"help": ""
},
{
"name": "Shaded_Relief_Blue_to_Red",
"description": "A raster function template.",
"help": ""
},
{
"name": "Color_Shaded_Relief",
"description": "A raster function template.",
"help": ""
},
{
"name": "Elevation_Blue_to_Red",
"description": "A raster function template.",
"help": ""
},
{
"name": "Slope_Colormap",
"description": "A raster function template.",
"help": ""
},
{
"name": "Slope",
"description": "A raster function template.",
"help": ""
},
{
"name": "Hillshade",
"description": "A raster function template.",
"help": ""
}
]}
Mensuration Capabilities: Basic
Inspection Capabilities:
Has Histograms: true
Has Colormap: false
Has Multi Dimensions : false
Rendering Rule:
Min Scale: 0
Max Scale: 0
Resampling: false
Copyright Text: OC Survey; USGS; DMI
Service Data Type: esriImageServiceDataTypeGeneric
Min Values: -21.087816238403
Max Values: 5688.3291015625
Mean Values: 851.2898425646
Standard Deviation Values: 848.75250029636
Object ID Field:
Fields:
None
Default Mosaic Method: Center
Allowed Mosaic Methods:
SortField:
SortValue: null
Mosaic Operator: First
Default Compression Quality: 75
Default Resampling Method: Bilinear
Max Record Count: null
Max Image Height: 4100
Max Image Width: 15000
Max Download Image Count: null
Max Mosaic Image Count: null
Allow Raster Function: true
Allow Copy: true
Allow Analysis: true
Allow Compute TiePoints: false
Supports Statistics: false
Supports Advanced Queries: false
Use StandardizedQueries: true
Raster Type Infos:
Name: Raster Dataset
Description: Supports all ArcGIS Raster Datasets
Help:
Has Raster Attribute Table: false
Edit Fields Info: null
Ownership Based AccessControl For Rasters: null
Child Resources:
Info
Histograms
Statistics
Key Properties
Legend
Raster Function Infos
Supported Operations:
Export Image
Identify
Measure
Compute Histograms
Compute Statistics Histograms
Get Samples
Compute Class Statistics
Query Boundary
Compute Pixel Location
Compute Angles
Validate
Project