View In:
ArcGIS JavaScript
ArcGIS Online Map Viewer
ArcGIS Earth
Service Description: Orange County 2018 DEM, 1m
Name: Elevation/oc_dem_1m_2018
Description: Orange County 2018 DEM, 1m
Single Fused Map Cache: true
Tile Info:
- Height: 512
- Width: 512
- DPI: 96
-
Levels of Detail: 12
- Format: LERC
- Compression Quality: 0.0
- LERC Error: 0.1
- Origin: X: -1.186089E8
Y: 1.590816E8
- Spatial Reference: 102646
(2230)
LatestVCSWkid(0)
Storage Info:
- Storage Format: esriMapCacheStorageModeCompactV2
- Packet Size: 128
Extent:
XMin: 5971623.854669109
YMin: 2072195.4497345367
XMax: 6236079.243709109
YMax: 2336644.2770945365
Spatial Reference: 102646
(2230)
LatestVCSWkid(0)
Initial Extent:
XMin: 5971623.854669109
YMin: 2072195.4497345367
XMax: 6236079.243709109
YMax: 2336644.2770945365
Spatial Reference: 102646
(2230)
LatestVCSWkid(0)
Full Extent:
XMin: 5971623.854669109
YMin: 2072195.4497345367
XMax: 6236079.243709109
YMax: 2336644.2770945365
Spatial Reference: 102646
(2230)
LatestVCSWkid(0)
Pixel Size X: 3.2808399999999978
Pixel Size Y: 3.280839999999997
Band Count: 1
Pixel Type: F32
RasterFunction Infos: {"rasterFunctionInfos": [{
"name": "None",
"description": "",
"help": ""
}]}
Mensuration Capabilities: Basic
Inspection Capabilities:
Has Histograms: true
Has Colormap: false
Has Multi Dimensions : false
Rendering Rule:
Min Scale: 0
Max Scale: 0
Min LOD: 0
Max LOD: 9
Resampling: false
Copyright Text:
Service Data Type: esriImageServiceDataTypeGeneric
Min Values: -21.087816238403
Max Values: 5688.3291015625
Mean Values: 851.29094228331
Standard Deviation Values: 848.752204492
Object ID Field:
Fields:
None
Default Mosaic Method: Center
Allowed Mosaic Methods:
SortField:
SortValue: null
Mosaic Operator: First
Default Compression Quality: 75
Default Resampling Method: Bilinear
Max Record Count: null
Max Image Height: 4100
Max Image Width: 15000
Max Download Image Count: null
Max Mosaic Image Count: null
Allow Raster Function: true
Allow Copy: true
Allow Analysis: true
Allow Compute TiePoints: false
Supports Statistics: false
Supports Advanced Queries: false
Use StandardizedQueries: true
Raster Type Infos:
Name: Raster Dataset
Description: Supports all ArcGIS Raster Datasets
Help:
Has Raster Attribute Table: false
Edit Fields Info: null
Ownership Based AccessControl For Rasters: null
Child Resources:
Info
Histograms
Statistics
Key Properties
Legend
Raster Function Infos
Supported Operations:
Export Image
Identify
Measure
Compute Histograms
Compute Statistics Histograms
Get Samples
Compute Class Statistics
Query Boundary
Compute Pixel Location
Compute Angles
Validate
Project