View In:
ArcGIS JavaScript
ArcGIS Online Map Viewer
ArcGIS Earth
Service Description: Aerial_Imagery_Countywide/Eagle_Aerial_2022_OC_1FT_sid
Name: Aerial_Imagery_Countywide/Eagle_Aerial_2022_OC_1FT_sid
Description:
Single Fused Map Cache: false
Extent:
XMin: 5991500.0
YMin: 2082500.0
XMax: 6211500.0
YMax: 2312500.0
Spatial Reference: 102646
(2230)
LatestVCSWkid(0)
Initial Extent:
XMin: 5991500.0
YMin: 2082500.0
XMax: 6211500.0
YMax: 2312500.0
Spatial Reference: 102646
(2230)
LatestVCSWkid(0)
Full Extent:
XMin: 5991500.0
YMin: 2082500.0
XMax: 6211500.0
YMax: 2312500.0
Spatial Reference: 102646
(2230)
LatestVCSWkid(0)
Pixel Size X: 1.0
Pixel Size Y: 1.0
Band Count: 3
Pixel Type: U8
RasterFunction Infos: {"rasterFunctionInfos": [{
"name": "None",
"description": "",
"help": ""
}]}
Mensuration Capabilities: Basic
Inspection Capabilities:
Has Histograms: true
Has Colormap: false
Has Multi Dimensions : false
Rendering Rule:
Min Scale: 0
Max Scale: 0
Min LOD: 9
Max LOD: 19
Copyright Text:
Service Data Type: esriImageServiceDataTypeRGB
Min Values: 21, 41, 42
Max Values: 255, 255, 255
Mean Values: 193.59519168291, 192.0701754386, 189.51007147498
Standard Deviation Values: 63.858944441614, 65.211887467629, 67.801475072613
Object ID Field:
Fields:
None
Default Mosaic Method: Center
Allowed Mosaic Methods:
SortField:
SortValue: null
Mosaic Operator: First
Default Compression Quality: 75
Default Resampling Method: Bilinear
Max Record Count: null
Max Image Height: 4100
Max Image Width: 15000
Max Download Image Count: null
Max Mosaic Image Count: null
Allow Raster Function: true
Allow Copy: true
Allow Analysis: true
Allow Compute TiePoints: false
Supports Statistics: false
Supports Advanced Queries: false
Use StandardizedQueries: true
Raster Type Infos:
Name: Raster Dataset
Description: Supports all ArcGIS Raster Datasets
Help:
Has Raster Attribute Table: false
Edit Fields Info: null
Ownership Based AccessControl For Rasters: null
Child Resources:
Info
Histograms
Statistics
Key Properties
Legend
Raster Function Infos
Supported Operations:
Export Image
Identify
Measure
Compute Histograms
Compute Statistics Histograms
Get Samples
Compute Class Statistics
Query Boundary
Compute Pixel Location
Compute Angles
Validate
Project