View In:
ArcGIS JavaScript
ArcGIS Online Map Viewer
ArcGIS Earth
ArcGIS Pro
Service Description: Eagle Aerial - 2020, 1 Foot resolution - Landbase
Map Name: 2020 Eagle 1ft
Legend
All Layers and Tables
Dynamic Legend
Dynamic All Layers
Layers:
Description:
Copyright Text: Eagle Aerial
Spatial Reference:
102646
(2230)
LatestVCSWkid(0)
Single Fused Map Cache: true
Tile Info:
- Height: 512.0
- Width: 512.0
- DPI: 96.0
-
Levels of Detail: 24
-
Level ID: 0
[ Start Tile, End Tile ]
- Resolution: 488946.8758571905
- Scale: 5.632668009874835E8
-
Level ID: 1
[ Start Tile, End Tile ]
- Resolution: 244473.43792859526
- Scale: 2.8163340049374175E8
-
Level ID: 2
[ Start Tile, End Tile ]
- Resolution: 122236.71896429763
- Scale: 1.4081670024687088E8
-
Level ID: 3
[ Start Tile, End Tile ]
- Resolution: 61118.359482148815
- Scale: 7.040835012343544E7
-
Level ID: 4
[ Start Tile, End Tile ]
- Resolution: 30559.179741074408
- Scale: 3.520417506171772E7
-
Level ID: 5
[ Start Tile, End Tile ]
- Resolution: 15279.589870537204
- Scale: 1.760208753085886E7
-
Level ID: 6
[ Start Tile, End Tile ]
- Resolution: 7639.794935268602
- Scale: 8801043.76542943
-
Level ID: 7
[ Start Tile, End Tile ]
- Resolution: 3819.897467634301
- Scale: 4400521.882714715
-
Level ID: 8
[ Start Tile, End Tile ]
- Resolution: 1909.9487338171505
- Scale: 2200260.9413573574
-
Level ID: 9
[ Start Tile, End Tile ]
- Resolution: 954.9743669085752
- Scale: 1100130.4706786787
-
Level ID: 10
[ Start Tile, End Tile ]
- Resolution: 477.4871834542876
- Scale: 550065.2353393394
-
Level ID: 11
[ Start Tile, End Tile ]
- Resolution: 238.7435917271438
- Scale: 275032.6176696697
-
Level ID: 12
[ Start Tile, End Tile ]
- Resolution: 119.3717958635719
- Scale: 137516.30883483484
-
Level ID: 13
[ Start Tile, End Tile ]
- Resolution: 59.68589793178595
- Scale: 68758.15441741742
-
Level ID: 14
[ Start Tile, End Tile ]
- Resolution: 29.842948965892976
- Scale: 34379.07720870871
-
Level ID: 15
[ Start Tile, End Tile ]
- Resolution: 14.921474482946488
- Scale: 17189.538604354355
-
Level ID: 16
[ Start Tile, End Tile ]
- Resolution: 7.460737241473244
- Scale: 8594.769302177177
-
Level ID: 17
[ Start Tile, End Tile ]
- Resolution: 3.730368620736622
- Scale: 4297.384651088589
-
Level ID: 18
[ Start Tile, End Tile ]
- Resolution: 1.865184310368311
- Scale: 2148.6923255442944
-
Level ID: 19
[ Start Tile, End Tile ]
- Resolution: 0.9325921551841555
- Scale: 1074.3461627721472
-
Level ID: 20
[ Start Tile, End Tile ]
- Resolution: 0.46629607759207775
- Scale: 537.1730813860736
-
Level ID: 21
[ Start Tile, End Tile ]
- Resolution: 0.23314803879603888
- Scale: 268.5865406930368
-
Level ID: 22
[ Start Tile, End Tile ]
- Resolution: 0.11657401939801944
- Scale: 134.2932703465184
-
Level ID: 23
[ Start Tile, End Tile ]
- Resolution: 0.05828700969900972
- Scale: 67.1466351732592
- Format: MIXED
- Compression Quality: 75.0
- Origin: X: -1.186084832119737E8
Y: 1.0619283300464755E8
- Spatial Reference: 102646
(2230)
LatestVCSWkid(0)
Storage Info:
- Storage Format: esriMapCacheStorageModeCompactV2
- Packet Size: 128
Initial Extent:
XMin: 5880684.103968537
YMin: 2051106.6766054018
XMax: 6424086.881746314
YMax: 2414604.9404942896
Spatial Reference: 102646
(2230)
LatestVCSWkid(0)
Full Extent:
XMin: 5994254.707520048
YMin: 2081371.7884895122
XMax: 6214254.707520048
YMax: 2311371.788489512
Spatial Reference: 102646
(2230)
LatestVCSWkid(0)
Units: esriFeet
Supported Image Format Types: PNG32,PNG24,PNG,JPG,DIB,TIFF,EMF,PS,PDF,GIF,SVG,SVGZ,BMP
Document Info:
Title:
Author:
Comments: Eagle Aerial - 2017, 1 Foot resolution
Subject: Eagle Aerial - 2017 (1ft)
Category:
Keywords: Eagle,Aerial,2020,County of Orange,CA
AntialiasingMode: None
TextAntialiasingMode: Force
Supports Dynamic Layers: true
Resampling: false
MaxRecordCount: 1000
MaxSelectionCount: 2000
MaxImageHeight: 4096
MaxImageWidth: 4096
Supported Query Formats: JSON, geoJSON, PBF
Supports Query Data Elements: true
Min Scale: 550065.2353393394
Max Scale: 268.5865406930368
Min LOD: 10
Max LOD: 21
Supports Datum Transformation: true
Child Resources:
Info
Dynamic Layer
Supported Operations:
Export Map
Identify
QueryLegends
QueryDomains
Find
Return Updates